BEGIN:VCALENDAR
VERSION:2.0
PRODID:-//urwahl3000//gruene-brunnthal.de//DE
CALSCALE:GREGORIAN
BEGIN:VEVENT
DTSTART:20260508T190000
DTEND:20260508T220000
LOCATION:Café Momm\, Otterloh 
DTSTAMP:20260508T190000
SUMMARY:Treffen Ortsverband im Café Momm
URL;VALUE=URI:https://gruene-brunnthal.de/termin/termine-im-ort/
DESCRIPTION:ORT: Café Momm, Otterloh
UID:20260508T190000-20260508T190000-20260508T220000
END:VEVENT
END:VCALENDAR